BEGIN:VCALENDAR
VERSION:2.0
PRODID:-//https://heinrich-schwab-institut.de///NONSGML kigkonsult.se iCalcreator 2.10.15//
METHOD:PUBLISH
BEGIN:VEVENT
UID:20260422T121318CEST-1890dp4FbB@https://heinrich-schwab-institut.de/
DTSTAMP:20260422T101318Z
DESCRIPTION:Bei unseren  Mantren  und Bhajans  kannst Du Deinen Geist klar 
 und weit  werden  lassen  und Dein Herz für tiefe Freude  und Verbundenhei
 t  öffnen .Lass Dich von den heilsamen  Klängen  berühren ! 🧘🏼‍♂️🎶🕉️\nBeit
 rag:  10 €  Anmeldung direkt bei Hansjörg bitte über WhatsApp /Telegram  /
  Signal  0151 26328032  ...spontan  geht aber auch...\nGenieße  das Erlebn
 is  gemeinsam  zu chanten -  mal temperamentvoll \, mal meditativ.Wir freu
 en  uns auf Dich. https://heinrich-schwab-institut.de/termine/event/399-ma
 ntrasingen-mit-hansjoerg
DTSTART:20260418T160000Z
DTEND:20260418T183000Z
LOCATION:Seminarhaus Heinrich Schwab Institut e. V. (Eglofstal 44)
SUMMARY:Mantrasingen mit Hansjörg
URL:https://heinrich-schwab-institut.de/termine/event/399-mantrasingen-mit-
 hansjoerg
END:VEVENT
END:VCALENDAR
