BEGIN:VCALENDAR
VERSION:2.0
PRODID:-//https://heinrich-schwab-institut.de///NONSGML kigkonsult.se iCalcreator 2.10.15//
METHOD:PUBLISH
BEGIN:VEVENT
UID:20260420T104216CEST-3078wHBbWL@https://heinrich-schwab-institut.de/
DTSTAMP:20260420T084216Z
DESCRIPTION:\n3 x dienstags ab 02.12. bis 16.12.2025\n\n\n18:30 - 19:45 Uhr
 \n\n\nWir leiten die gemütliche Weihnachtszeit mit etwas Bewegung\, etwas 
 Dehnung und ganz viel Entspannung ein. Der Raum ist gemütlich mit Kerzen b
 eleuchtet und duftet heimelig. Es geht in dieser aufregenden und turbulent
 en Zeit um den inneren Rückzug\, das Besinnen auf sich selbst\, dem Reflek
 tieren des zurückliegenden Jahres und dem Einläuten des Jahresausklangs. A
 lle Termine sind als Einzeltermine buchbar.\n​\n​Für Einsteiger und Fortge
 schrittene geeignet. \n​\n​​Damit du dich optimal angeleitet fühlst\,gibt 
 es eine begrenzte Teilnehmerzahl.\n​​\nTermine:\n02.12. I 09.12. I 16.12.2
 025\n​​\nKosten:\n15 € / Termin\nZahlung vor Kursbeginn in bar oder per pa
 ypal bei Antje\nInfo und Anmeldung unter www.y-yoga.org\n https://heinrich
 -schwab-institut.de/termine/event/392-gemiatliches-weihnachtsyoga-mit-antj
 e
DTSTART:20251202T173000Z
DTEND:20251202T184500Z
LOCATION:Seminarhaus Heinrich Schwab Institut e.V.\, Eglofstal 44\, D-88260
  Argenbühl (Eglofstal 44\, 88260 Argenbühl)
SUMMARY:'Gemiatliches Weihnachtsyoga' mit Antje
URL:https://heinrich-schwab-institut.de/termine/event/392-gemiatliches-weih
 nachtsyoga-mit-antje
END:VEVENT
END:VCALENDAR
