BEGIN:VCALENDAR
VERSION:2.0
PRODID:-//https://heinrich-schwab-institut.de///NONSGML kigkonsult.se iCalcreator 2.10.15//
METHOD:PUBLISH
BEGIN:VEVENT
UID:20260420T103655CEST-6365U6wWoc@https://heinrich-schwab-institut.de/
DTSTAMP:20260420T083655Z
DESCRIPTION:\n8 x dienstags ab 23.09. bis 25.11.2025\n\n\nFrüher Feierabend
  17:30 - 18:30 Uhr\nSpäter Feierabend 19:00 - 20:00 Uhr\n\nGenau die richt
 ige Mischung\, um in den Feierabend zu gleiten: ein bisschen Bewegung\, St
 ärkung\, Atmung\, meditativer Fokus\, ein bisschen Dehnung und ganz viel E
 ntspannung am Ende.\nDiese Kurse zeichnen sich durch etwas weniger Kraftüb
 ungen im Vergleich zum Montagskurs aus und sind auch mit körperlichen Eins
 chränkungen gut zu meistern.\n \n​Für Einsteiger und Fortgeschrittene geei
 gnet. Bei Verletzungen bitte vorab abklären.\n​\n​​Damit du dich optimal a
 ngeleitet fühlst\,gibt es eine begrenzte Teilnehmerzahl.\n​​\nTermine:\nab
  23.09.2025 jeden Dienstag außer 7./14.10.25​\nbis 25.11.2025\; Nachholter
 min am Di 02.12.2025\n​110 €  / 8 Termine inkl. Nachholtermin\nZahlung in 
 bar vor Kursbeginn oder paypal bei Antje.\nwww.y-yoga.org\n  https://heinr
 ich-schwab-institut.de/termine/event/376-feierabend-yoga-mit-antje
DTSTART:20250923T153000Z
DTEND:20250923T180000Z
LOCATION:Seminarhaus Heinrich Schwab Institut e.V.\, Eglofstal 44\, D-88260
  Argenbühl (Eglofstal 44\, 88260 Argenbühl)
SUMMARY:FEIERABEND-YOGA mit Antje
URL:https://heinrich-schwab-institut.de/termine/event/376-feierabend-yoga-m
 it-antje
END:VEVENT
END:VCALENDAR
