BEGIN:VCALENDAR
VERSION:2.0
PRODID:-//https://heinrich-schwab-institut.de///NONSGML kigkonsult.se iCalcreator 2.10.15//
METHOD:PUBLISH
BEGIN:VEVENT
UID:20260420T103731CEST-7349ZANCOw@https://heinrich-schwab-institut.de/
DTSTAMP:20260420T083731Z
DESCRIPTION:Beim FEIERABEND-Yoga bewegen wir uns von Kopf bis Fuß durch. Ei
 n bisschen Stretching\, ein bisschen Stärkung\, viel Atmen\; klassische Yo
 gahaltungen und auch mal ein paar dynamische Flows. Immer achtsam. Bewegun
 g und Atmung sind im Einklang\, so dass du aus den stressigen Verhaltensmu
 stern des Alltags aussteigen kannst.\nFür Einsteiger und Fortgeschrittene 
 geeignet.\nDamit du dich optimal angeleitet fühlst\,gibt es eine begrenzte
  Teilnehmerzahl.\nAm 03.06.2025 gibt es einen kostenlosen Nachholtermin.\n
 ​\nKosten:\n85 € für alle 6 Termine inkl. Nachholtermin.\nZahlung in bar v
 or Kursbeginn oder paypal bei Antje.\n  https://heinrich-schwab-institut.d
 e/termine/event/320-feierabend-yoga-spaet-mit-antje
DTSTART:20250422T170000Z
DTEND:20250422T180000Z
LOCATION:Seminarhaus Heinrich Schwab Institut e.V.\, Eglofstal 44\, D-88260
  Argenbühl (Eglofstal 44\, 88260 Argenbühl)
SUMMARY:FEIERABEND-YOGA SPÄT mit Antje
URL:https://heinrich-schwab-institut.de/termine/event/320-feierabend-yoga-s
 paet-mit-antje
END:VEVENT
END:VCALENDAR
