BEGIN:VCALENDAR
VERSION:2.0
PRODID:-//https://heinrich-schwab-institut.de///NONSGML kigkonsult.se iCalcreator 2.10.15//
METHOD:PUBLISH
BEGIN:VEVENT
UID:20260420T104031CEST-6204LD1DvR@https://heinrich-schwab-institut.de/
DTSTAMP:20260420T084031Z
DESCRIPTION:Beim FEIERABEND-Yoga bewegen wir uns von Kopf bis Fuß durch. Ei
 n bisschen Stretching\, ein bisschen Stärkung\, viel Atmen\; klassische Yo
 gahaltungen und auch mal ein paar dynamische Flows. Immer achtsam. Bewegun
 g und Atmung sind im Einklang\, so dass du aus den stressigen Verhaltensmu
 stern des Alltags aussteigen kannst.\nFür Einsteiger und Fortgeschrittene 
 geeignet.\nDamit du dich optimal angeleitet fühlst\,gibt es eine begrenzte
  Teilnehmerzahl.\nStatt Nachholtermin gibt es ein Video für Zuhause.\n​Kos
 ten:\n55 € für alle 4 Termine. Zahlung vor Kursbeginn.\n  https://heinrich
 -schwab-institut.de/termine/event/311-feierabend-yoga-frueh-mit-antje
DTSTART:20250311T163000Z
DTEND:20250311T173000Z
LOCATION:Seminarhaus Heinrich Schwab Institut e.V.\, Eglofstal 44\, D-88260
  Argenbühl (Eglofstal 44\, 88260 Argenbühl)
SUMMARY:FEIERABEND-YOGA FRÜH mit Antje
URL:https://heinrich-schwab-institut.de/termine/event/311-feierabend-yoga-f
 rueh-mit-antje
END:VEVENT
END:VCALENDAR
