BEGIN:VCALENDAR
VERSION:2.0
PRODID:-//https://heinrich-schwab-institut.de///NONSGML kigkonsult.se iCalcreator 2.10.15//
METHOD:PUBLISH
BEGIN:VEVENT
UID:20260420T104054CEST-4858uHGvGb@https://heinrich-schwab-institut.de/
DTSTAMP:20260420T084054Z
DESCRIPTION:Yoga-Wochenende mit Angelika Gamperling\n \n  https://heinrich-
 schwab-institut.de/termine/event/307-yoga-wochenende-mit-angelika
DTSTART:20250731T220000Z
DTEND:20250803T120000Z
LOCATION:Seminarhaus Heinrich Schwab Institut e. V. (Eglofstal 44)
SUMMARY:Yoga-Wochenende mit Angelika
URL:https://heinrich-schwab-institut.de/termine/event/307-yoga-wochenende-m
 it-angelika
END:VEVENT
END:VCALENDAR
