BEGIN:VCALENDAR
VERSION:2.0
PRODID:-//https://heinrich-schwab-institut.de///NONSGML kigkonsult.se iCalcreator 2.10.15//
METHOD:PUBLISH
BEGIN:VEVENT
UID:20260420T104256CEST-3820B7hIbf@https://heinrich-schwab-institut.de/
DTSTAMP:20260420T084256Z
DESCRIPTION:In dieser Zeremonien-Reihe beschäftigen wir uns zu jedem Termin
  mit einem anderen\, inneren Thema. In einer kleinen persönlichen Runde mi
 t wenigen Teilnehmern widmen wir uns gemeinsam unserer inneren Mitte\; bek
 ommen ein Gespür für unsere innere Balance und führen Übungen durch\, um s
 ie mehr und mehr in unserem Alltag zu integrieren. \nHier geht es im Vergl
 eich zu meinen anderen Kursen bewusst etwas spiritueller und meditativer z
 u. Persönlichkeitsentwicklung\, energetisches Wachstum\, Heilung und Seele
 narbeit stehen hier im Fokus.\nVorkenntnisse sind nicht notwendig.\nDie Te
 rmine und Themen werden fortlaufend erneuert und zuerst per Newsletter bek
 annt gegeben.\nKosten:\n35 € pro Termin inkl. Material\; zu einzelnen Term
 inen gibt es im Anschluss eine Audioaufnahme.\nZahlung vor Kursbeginn.\nWe
 itere Informationen unter:\nwww.y-yoga.org https://heinrich-schwab-institu
 t.de/termine/event/299-zeremonien-reihe-zur-inneren-mitte-mit-antje
DTSTART:20250124T170000Z
DTEND:20250124T200000Z
LOCATION:Seminarhaus Heinrich Schwab Institut e.V.\, Eglofstal 44\, D-88260
  Argenbühl (Eglofstal 44\, 88260 Argenbühl)
SUMMARY:Zeremonien-Reihe ZUR INNEREN MITTE mit Antje
URL:https://heinrich-schwab-institut.de/termine/event/299-zeremonien-reihe-
 zur-inneren-mitte-mit-antje
END:VEVENT
END:VCALENDAR
