BEGIN:VCALENDAR
VERSION:2.0
PRODID:-//https://heinrich-schwab-institut.de///NONSGML kigkonsult.se iCalcreator 2.10.15//
METHOD:PUBLISH
BEGIN:VEVENT
UID:20260422T104010CEST-86416Eu6kl@https://heinrich-schwab-institut.de/
DTSTAMP:20260422T084010Z
DESCRIPTION:Entdecke innere Ruhe und Balance im 'Tschüss-Stress'-Yogakurs. 
 Lass' deinen Alltag hinter dir und lerne Techniken\, die Kopf und Körper e
 ntspannen. Du wirst detailliert angeführt\, wie du dich von einer bewusste
 n Anspannung in die Entspannung begibst. Und profitierst somit nicht nur a
 uf der Matte davon\, sondern wirst auch in deinem Alltag besser in die Ent
 spannung gehen können. Dieser Kurs eignet sich besonders für dich\, wenn d
 u im Alltag ständig gestresst bist und dein Nervensystem am Anschlag läuft
 .\n \nDieser Yogakurs ist im Vergleich zum FEIERABEND-Yoga etwas ruhiger a
 ufgebaut\; für Einsteiger und Fortgeschrittene geeignet.\n​​​\nDamit du di
 ch optimal angeleitet fühlst\,gibt es eine begrenzte Teilnehmerzahl.\nDu k
 annst nicht zu allen Terminen kommen?\nKein Problem: Du erhältst einen kle
 inen Online-Kurs\, um Zuhause eigenständig zu praktizieren.\n​\nTermine: 0
 4.02. I 11.02. I 18.02. I 25.02.2025\n​​\nKosten:\n60 € für alle 4 Termine
  inkl. 1 Online Aufzeichnung\nZahlung vor Kursbeginn. https://heinrich-sch
 wab-institut.de/termine/event/261-tschuess-stress-yoga-mit-antje
DTSTART:20250204T182000Z
DTEND:20250204T192000Z
LOCATION:Seminarhaus Heinrich Schwab Institut e.V.\, Eglofstal 44\, D-88260
  Argenbühl (Eglofstal 44\, 88260 Argenbühl)
SUMMARY:Tschüss-Stress-YOGA mit Antje
URL:https://heinrich-schwab-institut.de/termine/event/261-tschuess-stress-y
 oga-mit-antje
END:VEVENT
END:VCALENDAR
