BEGIN:VCALENDAR
VERSION:2.0
PRODID:-//https://heinrich-schwab-institut.de///NONSGML kigkonsult.se iCalcreator 2.10.15//
METHOD:PUBLISH
BEGIN:VEVENT
UID:20260420T103657CEST-60385FLAoN@https://heinrich-schwab-institut.de/
DTSTAMP:20260420T083657Z
DESCRIPTION:Beim FEIERABEND-Yoga bewegen wir uns von Kopf bis Fuß durch. Ei
 n bisschen Stretching\, ein bisschen Stärkung\, viel Atmen\; klassische Yo
 gahaltungen und auch mal ein paar dynamische Flows. Immer achtsam. Bewegun
 g und Atmung sind im Einklang\, so dass du aus den stressigen Verhaltensmu
 stern des Alltags aussteigen kannst.\nFür Einsteiger und Fortgeschrittene 
 geeignet.\nDamit du dich optimal angeleitet fühlst\,gibt es eine begrenzte
  Teilnehmerzahl.\nDu kannst nicht zu allen Terminen kommen?\nKein Problem:
  Am 25.02. gibt es einen kostenlosen Nachholtermin für dich.\n98 € für all
 e 7 Termine inkl. 1 Nachholtermin\nZahlung vor Kursbeginn.\n  https://hein
 rich-schwab-institut.de/termine/event/253-feierabend-yoga-mit-antje
DTSTART:20250107T170000Z
DTEND:20250107T180000Z
LOCATION:Seminarhaus Heinrich Schwab Institut e.V.\, Eglofstal 44\, D-88260
  Argenbühl (Eglofstal 44\, 88260 Argenbühl)
SUMMARY:FEIERABEND-YOGA mit Antje
URL:https://heinrich-schwab-institut.de/termine/event/253-feierabend-yoga-m
 it-antje
END:VEVENT
END:VCALENDAR
