BEGIN:VCALENDAR
VERSION:2.0
PRODID:-//https://heinrich-schwab-institut.de///NONSGML kigkonsult.se iCalcreator 2.10.15//
METHOD:PUBLISH
BEGIN:VEVENT
UID:20260420T103322CEST-1298lCujZv@https://heinrich-schwab-institut.de/
DTSTAMP:20260420T083322Z
DESCRIPTION: https://heinrich-schwab-institut.de/termine/event/241-embody-y
 our-dance
DTSTART:20250115T173000Z
DTEND:20250115T193000Z
LOCATION:Seminarhaus Heinrich Schwab Institut e.V.\, Eglofstal 44\, D-88260
  Argenbühl (Eglofstal 44\, 88260 Argenbühl)
SUMMARY:Embody your Dance
URL:https://heinrich-schwab-institut.de/termine/event/241-embody-your-dance
END:VEVENT
END:VCALENDAR
