BEGIN:VCALENDAR
VERSION:2.0
PRODID:-//https://heinrich-schwab-institut.de///NONSGML kigkonsult.se iCalcreator 2.10.15//
METHOD:PUBLISH
BEGIN:VEVENT
UID:20260420T102652CEST-69399PdfSM@https://heinrich-schwab-institut.de/
DTSTAMP:20260420T082652Z
DESCRIPTION: https://heinrich-schwab-institut.de/termine/event/228-weihnach
 tsyoga-mit-antje
DTSTART:20241203T173000Z
DTEND:20241203T200000Z
LOCATION:Seminarhaus Heinrich Schwab Institut e.V.\, Eglofstal 44\, D-88260
  Argenbühl (Eglofstal 44\, 88260 Argenbühl)
SUMMARY:WEIHNACHTSYOGA mit Antje
URL:https://heinrich-schwab-institut.de/termine/event/228-weihnachtsyoga-mi
 t-antje
END:VEVENT
END:VCALENDAR
