BEGIN:VCALENDAR
VERSION:2.0
PRODID:-//https://heinrich-schwab-institut.de///NONSGML kigkonsult.se iCalcreator 2.10.15//
METHOD:PUBLISH
BEGIN:VEVENT
UID:20260420T103413CEST-3244fwXvSp@https://heinrich-schwab-institut.de/
DTSTAMP:20260420T083413Z
DESCRIPTION:In diesen einzelnen Yoga-Workshops geht es jeden Monat um ein a
 nderes Thema. Wir bleiben hier hauptsächlich bei der körperlichen Yoga-Pra
 xis und steigen in Ausrichtung oder einzelne Abläufe tiefer ein. Hier gibt
  es Zeit und Raum für alle Fragen\, die in einer normalen Yogastunde zu ku
 rz kommen.\nBeispielthemen sind: 'Absolute Beginner'\; 'Hüfthöffner'\;\n'W
 elche Ausrichtung passt zu mir'\; 'Die Yoga-Basics'\; Atemübungen\; uvm.\n
 Die Termine und Themen werden fortlaufend erneuert und zuerst per Newslett
 er bekannt gegeben.\nFür Einsteiger und Fortgeschrittene geeignet.\nKosten
 :\n35 € pro Termin.\nZahlung vor Kursbeginn.\n​Weitere Informationen: \nww
 w.y-yoga.org https://heinrich-schwab-institut.de/termine/event/227-yoga-wo
 rkshop-mit-antje
DTSTART:20250215T130000Z
DTEND:20250215T160000Z
LOCATION:Seminarhaus Heinrich Schwab Institut e.V.\, Eglofstal 44\, D-88260
  Argenbühl (Eglofstal 44\, 88260 Argenbühl)
SUMMARY:Yoga-Workshop mit Antje
URL:https://heinrich-schwab-institut.de/termine/event/227-yoga-workshop-mit
 -antje
END:VEVENT
END:VCALENDAR
