BEGIN:VCALENDAR
VERSION:2.0
PRODID:-//https://heinrich-schwab-institut.de///NONSGML kigkonsult.se iCalcreator 2.10.15//
METHOD:PUBLISH
BEGIN:VEVENT
UID:20260420T103100CEST-2069Z76Mhz@https://heinrich-schwab-institut.de/
DTSTAMP:20260420T083100Z
DESCRIPTION: https://heinrich-schwab-institut.de/termine/event/217-tschuess
 -stress-yoga-mit-antje
DTSTART:20241029T182000Z
DTEND:20241029T192000Z
LOCATION:Seminarhaus Heinrich Schwab Institut e.V.\, Eglofstal 44\, D-88260
  Argenbühl (Eglofstal 44\, 88260 Argenbühl)
SUMMARY: Tschüss-Stress-YOGA mit Antje
URL:https://heinrich-schwab-institut.de/termine/event/217-tschuess-stress-y
 oga-mit-antje
END:VEVENT
END:VCALENDAR
