BEGIN:VCALENDAR
VERSION:2.0
PRODID:-//https://heinrich-schwab-institut.de///NONSGML kigkonsult.se iCalcreator 2.10.15//
METHOD:PUBLISH
BEGIN:VEVENT
UID:20260420T142505CEST-4071zTOx8S@https://heinrich-schwab-institut.de/
DTSTAMP:20260420T122505Z
DESCRIPTION: https://heinrich-schwab-institut.de/termine/event/212-neue-wor
 kshop-reihe-zur-inneren-mitte-mit-antje
DTSTART:20241122T170000Z
DTEND:20241122T193000Z
LOCATION:Seminarhaus Heinrich Schwab Institut e.V.\, Eglofstal 44\, D-88260
  Argenbühl (Eglofstal 44\, 88260 Argenbühl)
SUMMARY: Neue Workshop-Reihe ZUR INNEREN MITTE mit Antje
URL:https://heinrich-schwab-institut.de/termine/event/212-neue-workshop-rei
 he-zur-inneren-mitte-mit-antje
END:VEVENT
END:VCALENDAR
