BEGIN:VCALENDAR
VERSION:2.0
PRODID:-//https://heinrich-schwab-institut.de///NONSGML kigkonsult.se iCalcreator 2.10.15//
METHOD:PUBLISH
BEGIN:VEVENT
UID:20260420T102518CEST-90895Tw7c6@https://heinrich-schwab-institut.de/
DTSTAMP:20260420T082518Z
DESCRIPTION: \nAnmeldung:\nbei uns oder direkt bei Petra unter\ninfo[at]see
 lenzeit-allgaeu.de\n \nKontakt:\nPetra SchlachterWhatsApp: 0151-61420141 h
 ttps://heinrich-schwab-institut.de/termine/event/185-schamanisches-yoga-mi
 t-petra
DTSTART:20240919T170000Z
DTEND:20240919T190000Z
LOCATION:Seminarhaus Heinrich Schwab Institut e. V.  (Eglofstal\, Argenbühl
 \, Baden-Württemberg)
SUMMARY: Schamanisches Yoga mit Petra
URL:https://heinrich-schwab-institut.de/termine/event/185-schamanisches-yog
 a-mit-petra
END:VEVENT
END:VCALENDAR
