BEGIN:VCALENDAR
VERSION:2.0
PRODID:-//https://heinrich-schwab-institut.de///NONSGML kigkonsult.se iCalcreator 2.10.15//
METHOD:PUBLISH
BEGIN:VEVENT
UID:20260420T103100CEST-4940A5mPaH@https://heinrich-schwab-institut.de/
DTSTAMP:20260420T083100Z
DESCRIPTION:Möchtest du deinen Körper dehnen und kräftigen und zugleich dei
 nem Geist und deiner Seele etwas Gutes tun?\nIn diesem Kurs verbinden wir 
 Yoga-Übungen mit spirituellen Elementen. Wir praktizieren im geschützten s
 chamanischen Raum. Beim Klang der schamanischen Trommel lauschen wir dem H
 erzschlag von Mutter Erde\, entspannen und lassen los. Auf meditative Weis
 e reinigen wir dann unsere Aura. Anschließend praktizieren wir eine festge
 legte Yoga-Sequenz und verbinden diese mit heilsamen Affirmationen.\n \n5 
 Abende à 90 min – Zeit für deinen inneren Tempel\nKursbeginn:    Donnersta
 g\, 11.04.24\n                     17.00 – 18.30 Uhr\nKurskosten:     € 75
 \n \n \nMitzubringen sind eine Yoga-Matte\, bequeme Kleidung\, warme Socke
 n und eine Decke\, etwas zu trinken und Vorfreude auf Neues.\n \nAnmeldung
 :\nschamanischesyoga[at]web.de\nBitte gib deinen vollständigen Namen\, dei
 ne Adresse\, dein Alter und den Kurs an\, an dem du teilnehmen möchtest. D
 anke!\n \nKontakt:\nPetra SchlachterTel.: 08381-6019812 https://heinrich-s
 chwab-institut.de/termine/event/167-schamanisches-yoga-mit-petra-kurs-1
DTSTART:20240411T150000Z
DTEND:20240411T163000Z
LOCATION:Seminarhaus Heinrich Schwab Institut e. V.  (Eglofstal\, Argenbühl
 \, Baden-Württemberg)
SUMMARY: Schamanisches Yoga mit Petra - Kurs 1
URL:https://heinrich-schwab-institut.de/termine/event/167-schamanisches-yog
 a-mit-petra-kurs-1
END:VEVENT
END:VCALENDAR
