BEGIN:VCALENDAR
VERSION:2.0
PRODID:-//https://heinrich-schwab-institut.de///NONSGML kigkonsult.se iCalcreator 2.10.15//
METHOD:PUBLISH
BEGIN:VEVENT
UID:20260420T104216CEST-9490ux4MKG@https://heinrich-schwab-institut.de/
DTSTAMP:20260420T084216Z
DESCRIPTION:Möchtest du deinen Körper dehnen und kräftigen und zugleich dei
 nem Geist und deiner Seele etwas Gutes tun?\nIn diesem Kurs verbinden wir 
 Yoga-Übungen mit spirituellen Elementen. Wir praktizieren im geschützten s
 chamanischen Raum. Beim Klang der schamanischen Trommel lauschen wir dem H
 erzschlag von Mutter Erde\, entspannen und lassen los. Auf meditative Weis
 e reinigen wir dann unsere Aura. Anschließend praktizieren wir eine festge
 legte Yoga-Sequenz und verbinden diese mit heilsamen Affirmationen.\n \n5 
 Abende à 90 min – Zeit für deinen inneren Tempel\nKursbeginn:    Donnersta
 g\, 11.04.24\n                     19.00 – 21.00 Uhr\nKurskosten:     € 10
 0\n Grundkenntnisse in Yoga hilfreich\n \nMitzubringen sind eine Yoga-Matt
 e\, bequeme Kleidung\, warme Socken und eine Decke\, etwas zu trinken und 
 Vorfreude auf Neues.\n \nAnmeldung:\nschamanischesyoga[at]web.de\nBitte gi
 b deinen vollständigen Namen\, deine Adresse\, dein Alter und den Kurs an\
 , an dem du teilnehmen möchtest. Danke!\n \nKontakt:\nPetra SchlachterTel.
 : 08381-6019812 https://heinrich-schwab-institut.de/termine/event/166-scha
 manisches-yoga-mit-petra-kurs-2
DTSTART:20240411T170000Z
DTEND:20240411T190000Z
LOCATION:Seminarhaus Heinrich Schwab Institut e. V.  (Eglofstal\, Argenbühl
 \, Baden-Württemberg)
SUMMARY: Schamanisches Yoga mit Petra - Kurs 2
URL:https://heinrich-schwab-institut.de/termine/event/166-schamanisches-yog
 a-mit-petra-kurs-2
END:VEVENT
END:VCALENDAR
