BEGIN:VCALENDAR
VERSION:2.0
PRODID:-//https://heinrich-schwab-institut.de///NONSGML kigkonsult.se iCalcreator 2.10.15//
METHOD:PUBLISH
BEGIN:VEVENT
UID:20260420T103656CEST-01042E4nca@https://heinrich-schwab-institut.de/
DTSTAMP:20260420T083656Z
DESCRIPTION: https://heinrich-schwab-institut.de/termine/event/160-feierabe
 nd-yoga-mit-antje
DTSTART:20240514T160000Z
DTEND:20240514T170000Z
LOCATION:Seminarhaus Heinrich Schwab Institut e.V.\, Eglofstal 44\, D-88260
  Argenbühl (Eglofstal 44\, 88260 Argenbühl)
SUMMARY: FEIERABEND-YOGA mit Antje
URL:https://heinrich-schwab-institut.de/termine/event/160-feierabend-yoga-m
 it-antje
END:VEVENT
END:VCALENDAR
