BEGIN:VCALENDAR
VERSION:2.0
PRODID:-//https://heinrich-schwab-institut.de///NONSGML kigkonsult.se iCalcreator 2.10.15//
METHOD:PUBLISH
BEGIN:VEVENT
UID:20260420T103323CEST-3977kGcuif@https://heinrich-schwab-institut.de/
DTSTAMP:20260420T083323Z
DESCRIPTION: https://heinrich-schwab-institut.de/termine/event/141-embody-y
 our-dance
DTSTART:20240515T163000Z
DTEND:20240515T190000Z
LOCATION:Seminarhaus Heinrich Schwab Institut e.V.\, Eglofstal 44\, D-88260
  Argenbühl (Eglofstal 44\, 88260 Argenbühl)
SUMMARY:Embody your Dance
URL:https://heinrich-schwab-institut.de/termine/event/141-embody-your-dance
END:VEVENT
END:VCALENDAR
